BEGIN:VCALENDAR
VERSION:2.0
PRODID:-// - ECPv6.2.6.1//NONSGML v1.0//EN
CALSCALE:GREGORIAN
METHOD:PUBLISH
X-ORIGINAL-URL:https://brandolinochinda.com
X-WR-CALDESC:Eventos para 
REFRESH-INTERVAL;VALUE=DURATION:PT1H
X-Robots-Tag:noindex
X-PUBLISHED-TTL:PT1H
BEGIN:VTIMEZONE
TZID:America/Argentina/Buenos_Aires
BEGIN:STANDARD
TZOFFSETFROM:-0300
TZOFFSETTO:-0300
TZNAME:-03
DTSTART:20230101T000000
END:STANDARD
END:VTIMEZONE
BEGIN:VEVENT
DTSTART;VALUE=DATE:20230717
DTEND;VALUE=DATE:20230718
DTSTAMP:20260422T212808
CREATED:20230708T041703Z
LAST-MODIFIED:20230708T042501Z
UID:1059-1689552000-1689638399@brandolinochinda.com
SUMMARY:Entrevista en CABA a Chinda Brandolino por el periodista Alberto Mora
DESCRIPTION:Lunes 17\, horario a confirmar\, el periodista Alberto Mora le hará entrevista en CABA
URL:https://brandolinochinda.com/evento/entrevista-en-caba-a-chinda-brandolino-por-el-periodista-alberto-mora/
CATEGORIES:Entrevista
ATTACH;FMTTYPE=image/jpeg:https://brandolinochinda.com/wp-content/uploads/2023/07/imagen-destacada-general.jpg
ORGANIZER;CN="Chinda Brandolino":MAILTO:contactos@brandolinochinda.com
END:VEVENT
END:VCALENDAR